BEGIN:VCALENDAR
VERSION:2.0
PRODID:icalendar-ruby
CALSCALE:GREGORIAN
METHOD:PUBLISH
BEGIN:VEVENT
DTSTAMP:20260422T051426Z
UID:8-964239@woodlandbible.com
DTSTART:20260802T200000Z
DTEND:20260802T213000Z
CLASS:PUBLIC
CREATED:20260421T173823
DESCRIPTION:
LAST-MODIFIED:20260421T173823
LOCATION:Woodland Bible Church
SUMMARY:Spanish Sunday Service
URL;VALUE=URI:https://www.woodlandbible.com/events/spanish-sunday-service/2
 026-08-02
END:VEVENT
END:VCALENDAR
