BEGIN:VCALENDAR
VERSION:2.0
PRODID:icalendar-ruby
CALSCALE:GREGORIAN
METHOD:PUBLISH
BEGIN:VEVENT
DTSTAMP:20260424T100810Z
UID:8-969732@woodlandbible.com
DTSTART:20260830T200000Z
DTEND:20260830T213000Z
CLASS:PUBLIC
CREATED:20260423T191410
DESCRIPTION:
LAST-MODIFIED:20260423T191410
LOCATION:Woodland Bible Church
SUMMARY:Spanish Sunday Service
URL;VALUE=URI:https://www.woodlandbible.com/events/spanish-sunday-service/2
 026-08-30
END:VEVENT
END:VCALENDAR
