BEGIN:VCALENDAR
VERSION:2.0
PRODID:icalendar-ruby
CALSCALE:GREGORIAN
METHOD:PUBLISH
BEGIN:VEVENT
DTSTAMP:20260424T113119Z
UID:8-969733@woodlandbible.com
DTSTART:20260906T200000Z
DTEND:20260906T213000Z
CLASS:PUBLIC
CREATED:20260423T191410
DESCRIPTION:
LAST-MODIFIED:20260423T191410
LOCATION:Woodland Bible Church
SUMMARY:Spanish Sunday Service
URL;VALUE=URI:https://www.woodlandbible.com/events/spanish-sunday-service/2
 026-09-06
END:VEVENT
END:VCALENDAR
