BEGIN:VCALENDAR
VERSION:2.0
PRODID:icalendar-ruby
CALSCALE:GREGORIAN
METHOD:PUBLISH
BEGIN:VEVENT
DTSTAMP:20260424T161529Z
UID:8-970653@woodlandbible.com
DTSTART:20260927T200000Z
DTEND:20260927T213000Z
CLASS:PUBLIC
CREATED:20260424T073605
DESCRIPTION:
LAST-MODIFIED:20260424T073605
LOCATION:Woodland Bible Church
SUMMARY:Spanish Sunday Service
URL;VALUE=URI:https://www.woodlandbible.com/events/spanish-sunday-service/2
 026-09-27
END:VEVENT
END:VCALENDAR
